BEGIN:VCALENDAR
VERSION:2.0
PRODID:-//Carphile.co.uk - ECPv5.12.2//NONSGML v1.0//EN
CALSCALE:GREGORIAN
METHOD:PUBLISH
X-WR-CALNAME:Carphile.co.uk
X-ORIGINAL-URL:http://carphile.co.uk
X-WR-CALDESC:Events for Carphile.co.uk
BEGIN:VTIMEZONE
TZID:UTC
BEGIN:STANDARD
TZOFFSETFROM:+0000
TZOFFSETTO:+0000
TZNAME:UTC
DTSTART:20150101T000000
END:STANDARD
END:VTIMEZONE
BEGIN:VEVENT
DTSTART;TZID=UTC:20150606T080000
DTEND;TZID=UTC:20150607T170000
DTSTAMP:20260421T110344
CREATED:20150418T120004Z
LAST-MODIFIED:20150712T170449Z
UID:4936-1433577600-1433696400@carphile.co.uk
SUMMARY:Wilton Classic & Supercar show 2015
DESCRIPTION:Millions of pounds of classic and super cars once again will fill the lawns of Wilton House this summer as the Wilton Classic and Supercar show returns to Salisbury in Wiltshire on June 6th and 7th 2015\nThe Wilton Classic & Supercar event attracts a prestigious range of over 500 cars and motorbikes.  This year the organisers are promising that the show will include a display of almost every Bugatti ever made. \nWhat’s on?\nSaturday June 6 is dedicated to old cars and classic cars with the Sunday focussing on supercars and both days offering visitors hundreds of cars to admire\, a live restoration project\, interactive stands\, live music and a host of food and trade stands. \nThere will also be the first public viewing of an Alfa Romeo Giulietta Zagato Prototype which was discovered recently in the USA after 50 years and the Bloodhound Project car ahead of its land speed world record attempt later this year. \nSupercars lined up to appear at Wilton Classic and Supercar show 2015 include a McLaren P1\, La Ferrari\, Porsche 918 Spyder\, Aston Martin One-77\, Bugatti Veyron Pur Sang and a Veyron Super Sport WRC. \nEvent ambassador Tiff Needell will host the daily parade interview sessions and talk to visitors\, he said  “It’s a great excuse to spend two days surrounded by some amazing cars and bikes from rare old classics through to the very latest supercar technology.’’ \nThere will also be prizes for the very best cars on display and the brand new Concours d’Histoire which recognises great stories behind the cars at Wilton Classic & Supercar show. \nWilton Classic and Supercar show organiser Lord Pembroke with Bugatti Veyron 16.4 \n  \n“We have so many cars with great stories that we wanted to create a special award to highlight lesser known stories\,’’ said Lord Pembroke. “We have great barn finds\, local cars which have been in families for decades and others which have driven around the world and we want to tell their stories.’’ \nTickets and Admission\nYou can order tickets for Wilton Classic and Supercar here. Tickets ordered before 1st May 2015 are eligible for and early bird discount. \nBookmark carphile.co.uk and keep up to date with news about this and other motoring events
URL:http://carphile.co.uk/event/wilton-classic-supercar-show-2015/
LOCATION:Wilton House\, Wilton\, Salisbury\, SP2 0BJ\, United Kingdom
CATEGORIES:Show
ATTACH;FMTTYPE=image/jpeg:http://carphile.co.uk/wp-content/uploads/2015/04/Wilton-Classic-and-Supercar_1.jpg
END:VEVENT
END:VCALENDAR