BEGIN:VCALENDAR
VERSION:2.0
PRODID:-//Carphile.co.uk - ECPv5.12.2//NONSGML v1.0//EN
CALSCALE:GREGORIAN
METHOD:PUBLISH
X-WR-CALNAME:Carphile.co.uk
X-ORIGINAL-URL:http://carphile.co.uk
X-WR-CALDESC:Events for Carphile.co.uk
BEGIN:VTIMEZONE
TZID:UTC
BEGIN:STANDARD
TZOFFSETFROM:+0000
TZOFFSETTO:+0000
TZNAME:UTC
DTSTART:20140101T000000
END:STANDARD
END:VTIMEZONE
BEGIN:VEVENT
DTSTART;TZID=UTC:20140626T080000
DTEND;TZID=UTC:20140629T170000
DTSTAMP:20260420T044103
CREATED:20131216T175725Z
LAST-MODIFIED:20140602T203250Z
UID:770-1403769600-1404061200@carphile.co.uk
SUMMARY:Goodwood Festival of Speed
DESCRIPTION:The 2014 Good­wood Fes­ti­val of Speed\, will be held from June 26–29 2014.  The theme will be ‘Addicted to Win­ning – The Unbeat­able Cham­pi­ons of Motor Sport’. Cel­e­brat­ing leg­endary dri­vers and rid­ers\, teams and man­u­fac­tur­ers\, who have swept all before them in their sport. \nSee more details here
URL:http://carphile.co.uk/event/goodwood-festival-speed/
LOCATION:Goodwood House\, Goodwood House\, Chichester\, West Sussex\, PO18 0PX\, United Kingdom
CATEGORIES:Events
ATTACH;FMTTYPE=image/jpeg:http://carphile.co.uk/wp-content/uploads/2013/12/2014-FoS.jpg
END:VEVENT
END:VCALENDAR