BEGIN:VCALENDAR
VERSION:2.0
PRODID:-//Carphile.co.uk - ECPv5.12.2//NONSGML v1.0//EN
CALSCALE:GREGORIAN
METHOD:PUBLISH
X-WR-CALNAME:Carphile.co.uk
X-ORIGINAL-URL:http://carphile.co.uk
X-WR-CALDESC:Events for Carphile.co.uk
BEGIN:VTIMEZONE
TZID:UTC
BEGIN:STANDARD
TZOFFSETFROM:+0000
TZOFFSETTO:+0000
TZNAME:UTC
DTSTART:20140101T000000
END:STANDARD
END:VTIMEZONE
BEGIN:VEVENT
DTSTART;TZID=UTC:20140614T100000
DTEND;TZID=UTC:20140615T163000
DTSTAMP:20260419T200142
CREATED:20140217T120026Z
LAST-MODIFIED:20140115T143957Z
UID:1252-1402740000-1402849800@carphile.co.uk
SUMMARY:The Footman James 35th Bristol Classic Car Show
DESCRIPTION:The Footman James 35th Bristol Classic Car Show\, the longest running and friendliest classic car show in the UK. featuring stunning club displays an autojumble\, auction and a wode range of specialist traders. \nA classic car park that forms an integral part of the show which co-incides with Drive It Day and serves as an exceptiona destination for club runs. \nThe opening times on Saturday 14th June are 10.00am – 6.00pm and on Sunday 15th 10.00am-4.30pm \nAdults	       £12.00 On the door\n 	       £11.00 Advance ticket\n 	       £20.00 Two day ticket \nConcession*    £12.00 On the door\n 	       £11.00 Advance ticket\n 	       £18.00 Two day ticket
URL:http://carphile.co.uk/event/footman-james-35th-bristol-classic-car-show/
LOCATION:Bath & West Showground\, Shepton Mallet\, BA4 6QN\, United Kingdom
CATEGORIES:Events
END:VEVENT
END:VCALENDAR