BEGIN:VCALENDAR
VERSION:2.0
PRODID:-//Carphile.co.uk - ECPv5.12.2//NONSGML v1.0//EN
CALSCALE:GREGORIAN
METHOD:PUBLISH
X-WR-CALNAME:Carphile.co.uk
X-ORIGINAL-URL:http://carphile.co.uk
X-WR-CALDESC:Events for Carphile.co.uk
BEGIN:VTIMEZONE
TZID:UTC
BEGIN:STANDARD
TZOFFSETFROM:+0000
TZOFFSETTO:+0000
TZNAME:UTC
DTSTART:20140101T000000
END:STANDARD
END:VTIMEZONE
BEGIN:VEVENT
DTSTART;TZID=UTC:20140504T093000
DTEND;TZID=UTC:20140504T153000
DTSTAMP:20260419T200454
CREATED:20140425T142836Z
LAST-MODIFIED:20140425T143434Z
UID:2810-1399195800-1399217400@carphile.co.uk
SUMMARY:Catton Hall Classic Car & Transport Show
DESCRIPTION:A one day event just in front of Catton Hall and now in it 16th year. This event features over 700 vehicles with over 26 club stands plus autojumble and trade stands. Period tractors display and preserved Fire Engine demonstrations. \nThe Piston Ring Youth Motorcycle Club will once again be performing in the main arena. There will also be inflatables for the younger children. \nFor more information and to confirm opening times and entry prices\, please visit the Catton Hall website
URL:http://carphile.co.uk/event/catton-hall-classic-car-transport-show/
LOCATION:Catton Hall
CATEGORIES:Show
ATTACH;FMTTYPE=image/jpeg:http://carphile.co.uk/wp-content/uploads/2014/04/facebook_event_701197749923775.jpg
END:VEVENT
END:VCALENDAR